BEGIN:VCALENDAR
VERSION:2.0
PRODID:-//Fairfax County Republican Committee - ECPv6.15.20//NONSGML v1.0//EN
CALSCALE:GREGORIAN
METHOD:PUBLISH
X-ORIGINAL-URL:https://fairfaxgop.org
X-WR-CALDESC:Events for Fairfax County Republican Committee
REFRESH-INTERVAL;VALUE=DURATION:PT1H
X-Robots-Tag:noindex
X-PUBLISHED-TTL:PT1H
BEGIN:VTIMEZONE
TZID:America/New_York
BEGIN:DAYLIGHT
TZOFFSETFROM:-0500
TZOFFSETTO:-0400
TZNAME:EDT
DTSTART:20240310T070000
END:DAYLIGHT
BEGIN:STANDARD
TZOFFSETFROM:-0400
TZOFFSETTO:-0500
TZNAME:EST
DTSTART:20241103T060000
END:STANDARD
BEGIN:DAYLIGHT
TZOFFSETFROM:-0500
TZOFFSETTO:-0400
TZNAME:EDT
DTSTART:20250309T070000
END:DAYLIGHT
BEGIN:STANDARD
TZOFFSETFROM:-0400
TZOFFSETTO:-0500
TZNAME:EST
DTSTART:20251102T060000
END:STANDARD
BEGIN:DAYLIGHT
TZOFFSETFROM:-0500
TZOFFSETTO:-0400
TZNAME:EDT
DTSTART:20260308T070000
END:DAYLIGHT
BEGIN:STANDARD
TZOFFSETFROM:-0400
TZOFFSETTO:-0500
TZNAME:EST
DTSTART:20261101T060000
END:STANDARD
BEGIN:DAYLIGHT
TZOFFSETFROM:-0500
TZOFFSETTO:-0400
TZNAME:EDT
DTSTART:20270314T070000
END:DAYLIGHT
BEGIN:STANDARD
TZOFFSETFROM:-0400
TZOFFSETTO:-0500
TZNAME:EST
DTSTART:20271107T060000
END:STANDARD
END:VTIMEZONE
BEGIN:VEVENT
DTSTART;TZID=America/New_York:20260314T093000
DTEND;TZID=America/New_York:20260314T120000
DTSTAMP:20260424T062401
CREATED:20260312T045616Z
LAST-MODIFIED:20260312T045616Z
UID:96457-1773480600-1773489600@fairfaxgop.org
SUMMARY:Door Knock To SAVE Virginia
DESCRIPTION:The Redistricting Amendment MUST be defeated! \nWe need door knockers to help inform Fairfax County voters about the redistricting amendment and why voters need to GO VOTE NO! \nWHEN:  Saturday\, March 14 at 9:30 AM \nWHERE: Fairfax GOP Office\, 4246 Chain Bridge Road\, Fairfax\, VA 22030 \nLight breakfast will be provided.
URL:https://fairfaxgop.org/event/door-knock-to-save-virginia-7/
LOCATION:Fairfax GOP Office\, 4246 Chain Bridge Road\, Fairfax\, VA\, 22030\, United States
CATEGORIES:Door Knock
ATTACH;FMTTYPE=image/jpeg:https://fairfaxgop.org/wp-content/uploads/2026/03/March-12-doorknock.jpeg
ORGANIZER;CN="Fairfax GOP":MAILTO:info@fairfaxgop.org
END:VEVENT
BEGIN:VEVENT
DTSTART;TZID=America/New_York:20260221T120000
DTEND;TZID=America/New_York:20260221T120000
DTSTAMP:20260424T062401
CREATED:20260204T212416Z
LAST-MODIFIED:20260206T214813Z
UID:96283-1771675200-1771675200@fairfaxgop.org
SUMMARY:2026 Membership & Delegate Filing Deadline
DESCRIPTION:All Convention and Membership (New & Renewal) Information can be found at: \nwww.FairfaxGOP.org/2026-conventions \nDATE: Saturday\, February 28\, 2026 from 9:00 AM – 12:00 PM \nWHERE: South Lakes High School\, 11400 South Lakes Dr\, Reston\, VA 20191 \nDEADLINE To File: Saturday\, February 21\, 2026 at 12:00 PM\, NOON to file for Membership and/or to be a Delegate to the FCRC Convention\, the 10th or 11th Congressional District Committee Conventions. Postmark shall not govern.  No exceptions! \n* All existing Members MUST REAPPLY for membership for the new 2026-28 term \n* Delegates to the FCRC Convention will vote to elect the Chair for the 2026-28 term
URL:https://fairfaxgop.org/event/2026-membership-delegate-filing-deadline/
LOCATION:Fairfax GOP Office\, 4246 Chain Bridge Road\, Fairfax\, VA\, 22030\, United States
ATTACH;FMTTYPE=image/png:https://fairfaxgop.org/wp-content/uploads/2023/10/cropped-logo_cropped.png
ORGANIZER;CN="Fairfax GOP":MAILTO:info@fairfaxgop.org
END:VEVENT
BEGIN:VEVENT
DTSTART;TZID=America/New_York:20251207T130000
DTEND;TZID=America/New_York:20251207T160000
DTSTAMP:20260424T062401
CREATED:20251204T025457Z
LAST-MODIFIED:20251204T025457Z
UID:96065-1765112400-1765123200@fairfaxgop.org
SUMMARY:Door Knock with Ken Balbuena\, candidate for Braddock Supervisor
DESCRIPTION:Help us get out the vote in this Special Election for Braddock Supervisor! \nWhen: Saturday\, 12/6 from 10:00 AM – 1:00 PM \nWhere: Fairfax GOP Office\, 4246 Chain Bridge Road\, Fairfax\, VA 22030 \nQuestions? info@KenforBraddock.com \n \n 
URL:https://fairfaxgop.org/event/door-knock-with-ken-balbuena-candidate-for-braddock-supervisor/2025-12-07/
LOCATION:Fairfax GOP Office\, 4246 Chain Bridge Road\, Fairfax\, VA\, 22030\, United States
CATEGORIES:Door Knock
ATTACH;FMTTYPE=image/png:https://fairfaxgop.org/wp-content/uploads/2025/12/Canvass-with-Ken-1-Week.png
END:VEVENT
BEGIN:VEVENT
DTSTART;TZID=America/New_York:20251206T100000
DTEND;TZID=America/New_York:20251206T130000
DTSTAMP:20260424T062401
CREATED:20251204T025457Z
LAST-MODIFIED:20251204T025457Z
UID:96062-1765015200-1765026000@fairfaxgop.org
SUMMARY:Door Knock with Ken Balbuena\, candidate for Braddock Supervisor
DESCRIPTION:Help us get out the vote in this Special Election for Braddock Supervisor! \nWhen: Saturday\, 12/6 from 10:00 AM – 1:00 PM \nWhere: Fairfax GOP Office\, 4246 Chain Bridge Road\, Fairfax\, VA 22030 \nQuestions? info@KenforBraddock.com \n \n 
URL:https://fairfaxgop.org/event/door-knock-with-ken-balbuena-candidate-for-braddock-supervisor/2025-12-06/
LOCATION:Fairfax GOP Office\, 4246 Chain Bridge Road\, Fairfax\, VA\, 22030\, United States
CATEGORIES:Door Knock
ATTACH;FMTTYPE=image/png:https://fairfaxgop.org/wp-content/uploads/2025/12/Canvass-with-Ken-1-Week.png
END:VEVENT
BEGIN:VEVENT
DTSTART;TZID=America/New_York:20251123T130000
DTEND;TZID=America/New_York:20251123T160000
DTSTAMP:20260424T062401
CREATED:20251113T053158Z
LAST-MODIFIED:20251113T140615Z
UID:95936-1763902800-1763913600@fairfaxgop.org
SUMMARY:Door Knock for Ken Balbuena\, Candidate for Braddock Supervisor
DESCRIPTION:Pat Herrity Needs A Partner On The Fairfax County Board of Supervisors!\nHelp get out the vote for Ken Balbuena\, candidate for Braddock District Supervisor!\nEarly voting has already started in this Special Election to fill the open seat. \nElection Day is Tuesday\, December 9th\, and we need to alert all common sense voters to get to the polls ASAP and make their voice heard. \nDoor knocking will take place every Saturday and Sunday\, now until December 7th.  Meet at the Fairfax GOP Office\, 4246 Chain Bridge Road\, Fairfax\, VA. 22030 \nRSVP to Team Balbuena – info@kenforbraddock.com \nCan’t door knock?  Let Team Balbuena know how else you can help\, or support Ken with a donation. \nCheck to see if you live in the Braddock District and can vote for Ken: https://fairfaxgop.org/voter-info/
URL:https://fairfaxgop.org/event/door-knock-for-ken-balbuena-candidate-for-braddock-supervisor-3/
LOCATION:Fairfax GOP Office\, 4246 Chain Bridge Road\, Fairfax\, VA\, 22030\, United States
CATEGORIES:Door Knock
ATTACH;FMTTYPE=image/png:https://fairfaxgop.org/wp-content/uploads/2025/11/Balbuena-logo-photo.png
END:VEVENT
BEGIN:VEVENT
DTSTART;TZID=America/New_York:20251122T100000
DTEND;TZID=America/New_York:20251122T130000
DTSTAMP:20260424T062401
CREATED:20251113T051434Z
LAST-MODIFIED:20251113T140535Z
UID:95935-1763805600-1763816400@fairfaxgop.org
SUMMARY:Door Knock for Ken Balbuena\, Candidate for Braddock Supervisor
DESCRIPTION:Pat Herrity Needs A Partner On The Fairfax County Board of Supervisors!\nHelp get out the vote for Ken Balbuena\, candidate for Braddock District Supervisor!\nEarly voting has already started in this Special Election to fill the open seat. \nElection Day is Tuesday\, December 9th\, and we need to alert all common sense voters to get to the polls ASAP and make their voice heard. \nDoor knocking will take place every Saturday and Sunday\, now until December 7th.  Meet at the Fairfax GOP Office\, 4246 Chain Bridge Road\, Fairfax\, VA. 22030 \nRSVP to Team Balbuena – info@kenforbraddock.com \nCan’t door knock?  Let Team Balbuena know how else you can help\, or support Ken with a donation. \nCheck to see if you live in the Braddock District and can vote for Ken: https://fairfaxgop.org/voter-info/
URL:https://fairfaxgop.org/event/door-knock-for-ken-balbuena-candidate-for-braddock-supervisor-2/
LOCATION:Fairfax GOP Office\, 4246 Chain Bridge Road\, Fairfax\, VA\, 22030\, United States
CATEGORIES:Door Knock
ATTACH;FMTTYPE=image/png:https://fairfaxgop.org/wp-content/uploads/2025/11/Balbuena-logo-photo.png
END:VEVENT
BEGIN:VEVENT
DTSTART;TZID=America/New_York:20251116T130000
DTEND;TZID=America/New_York:20251116T160000
DTSTAMP:20260424T062401
CREATED:20251113T060840Z
LAST-MODIFIED:20251113T140451Z
UID:95937-1763298000-1763308800@fairfaxgop.org
SUMMARY:Door Knock for Ken Balbuena\, Candidate for Braddock Supervisor
DESCRIPTION:Pat Herrity Needs A Partner On The Fairfax County Board of Supervisors!\nHelp get out the vote for Ken Balbuena\, candidate for Braddock District Supervisor!\nEarly voting has already started in this Special Election to fill the open seat. \nElection Day is Tuesday\, December 9th\, and we need to alert all common sense voters to get to the polls ASAP and make their voice heard. \nDoor knocking will take place every Saturday and Sunday\, now until December 7th.  Meet at the Fairfax GOP Office\, 4246 Chain Bridge Road\, Fairfax\, VA. 22030 \nRSVP to Team Balbuena – info@kenforbraddock.com \nCan’t door knock?  Let Team Balbuena know how else you can help\, or support Ken with a donation. \nCheck to see if you live in the Braddock District and can vote for Ken: https://fairfaxgop.org/voter-info/
URL:https://fairfaxgop.org/event/door-knock-for-ken-balbuena-candidate-for-braddock-supervisor-4/
LOCATION:Fairfax GOP Office\, 4246 Chain Bridge Road\, Fairfax\, VA\, 22030\, United States
CATEGORIES:Door Knock
ATTACH;FMTTYPE=image/png:https://fairfaxgop.org/wp-content/uploads/2025/11/Balbuena-logo-photo.png
END:VEVENT
BEGIN:VEVENT
DTSTART;TZID=America/New_York:20251115T100000
DTEND;TZID=America/New_York:20251115T130000
DTSTAMP:20260424T062401
CREATED:20251113T044433Z
LAST-MODIFIED:20251113T140403Z
UID:95932-1763200800-1763211600@fairfaxgop.org
SUMMARY:Door Knock for Ken Balbuena\, Candidate for Braddock Supervisor
DESCRIPTION:Pat Herrity Needs A Partner On The Fairfax County Board of Supervisors!\nHelp get out the vote for Ken Balbuena\, candidate for Braddock District Supervisor!\nEarly voting has already started in this Special Election to fill the open seat. \nElection Day is Tuesday\, December 9th\, and we need to alert all common sense voters to get to the polls ASAP and make their voice heard. \nDoor knocking will take place every Saturday and Sunday\, now until December 7th.  Meet at the Fairfax GOP Office\, 4246 Chain Bridge Road\, Fairfax\, VA. 22030 \nRSVP to Team Balbuena – info@kenforbraddock.com \nCan’t door knock?  Let Team Balbuena know how else you can help\, or support Ken with a donation. \nCheck to see if you live in the Braddock District and can vote for Ken: https://fairfaxgop.org/voter-info/
URL:https://fairfaxgop.org/event/door-knock-for-ken-balbuena-candidate-for-braddock-supervisor/
LOCATION:Fairfax GOP Office\, 4246 Chain Bridge Road\, Fairfax\, VA\, 22030\, United States
CATEGORIES:Door Knock
ATTACH;FMTTYPE=image/png:https://fairfaxgop.org/wp-content/uploads/2025/11/Balbuena-logo-photo.png
END:VEVENT
BEGIN:VEVENT
DTSTART;TZID=America/New_York:20250803T133000
DTEND;TZID=America/New_York:20250803T160000
DTSTAMP:20260424T062401
CREATED:20250730T024200Z
LAST-MODIFIED:20250730T024200Z
UID:94834-1754227800-1754236800@fairfaxgop.org
SUMMARY:Super Sunday Door Knock for Attorney General Jason Miyares
DESCRIPTION:Help get out the vote for Attorney General Jason Miyares!\n \nWhen: 1:30pm\, Sunday\, August 3rd \nWhere: Fairfax GOP Office\, 4246 Chain Bridge Rd\, Fairfax\, VA 22030 \nNo experience necessary.  Training and campaign materials will be provided. \nRSVP to Sam Hazen\, samh@jasonmiyares.com
URL:https://fairfaxgop.org/event/super-sunday-door-knock-for-attorney-general-jason-miyares/
LOCATION:Fairfax GOP Office\, 4246 Chain Bridge Road\, Fairfax\, VA\, 22030\, United States
ATTACH;FMTTYPE=image/png:https://fairfaxgop.org/wp-content/uploads/2025/07/8.3-Super-Sunday-Fairfax.png
END:VEVENT
BEGIN:VEVENT
DTSTART;TZID=America/New_York:20250802T094500
DTEND;TZID=America/New_York:20250802T124500
DTSTAMP:20260424T062401
CREATED:20250729T045518Z
LAST-MODIFIED:20250729T045518Z
UID:94807-1754127900-1754138700@fairfaxgop.org
SUMMARY:Door Knock with LT Gov Winsome Earle-Sears & Stewart Whitson\, Candidate for Congress
DESCRIPTION:Saturday\, August 2 · 9:45am – 12:45pm \nFairfax GOP Headquarters\, 4246 Chain Bridge Road Fairfax\, VA 22030 \nJoin Lieutenant Governor Winsome Earle-Sears and Republican Nominee for CD11 Stewart Whitson to knock doors in Fairfax County! Knocking these doors underscores the importance of keeping Virginia RED and growing the majority in the House! \nFood and donuts will be provided! We hope to see you there. \nRSVP required – sign up here: door-knock-August-2 \nQuestions: Evan@winsomeforgovernor.com or 717-461-3380
URL:https://fairfaxgop.org/event/door-knock-with-lt-gov-winsome-earle-sears-stewart-whitson-candidate-for-congress/
LOCATION:Fairfax GOP Office\, 4246 Chain Bridge Road\, Fairfax\, VA\, 22030\, United States
ATTACH;FMTTYPE=image/png:https://fairfaxgop.org/wp-content/uploads/2025/07/Sears-Whitson-door-knock.png
END:VEVENT
BEGIN:VEVENT
DTSTART;TZID=America/New_York:20250802T090000
DTEND;TZID=America/New_York:20250802T120000
DTSTAMP:20260424T062401
CREATED:20250730T031043Z
LAST-MODIFIED:20250730T031625Z
UID:94836-1754125200-1754136000@fairfaxgop.org
SUMMARY:Super Saturday Door Knock for Attorney General Jason Miyares
DESCRIPTION:Help get out the vote for Attorney General Jason Miyares!\n \nWhen: 9:00am\, Saturday\, August 2nd \nWhere: Fairfax GOP Office\, 4246 Chain Bridge Rd\, Fairfax\, VA 22030 \nNo experience necessary.  Training and campaign materials will be provided. \nRSVP to Sam Hazen\, samh@jasonmiyares.com
URL:https://fairfaxgop.org/event/super-saturday-door-knock-for-attorney-general-jason-miyares-2/
LOCATION:Fairfax GOP Office\, 4246 Chain Bridge Road\, Fairfax\, VA\, 22030\, United States
ATTACH;FMTTYPE=image/png:https://fairfaxgop.org/wp-content/uploads/2025/07/8.2-Super-Saturday-Fairfax.png
END:VEVENT
END:VCALENDAR