BEGIN:VCALENDAR
VERSION:2.0
PRODID:-//Fairfax County Republican Committee - ECPv6.15.20//NONSGML v1.0//EN
CALSCALE:GREGORIAN
METHOD:PUBLISH
X-ORIGINAL-URL:https://fairfaxgop.org
X-WR-CALDESC:Events for Fairfax County Republican Committee
REFRESH-INTERVAL;VALUE=DURATION:PT1H
X-Robots-Tag:noindex
X-PUBLISHED-TTL:PT1H
BEGIN:VTIMEZONE
TZID:America/New_York
BEGIN:DAYLIGHT
TZOFFSETFROM:-0500
TZOFFSETTO:-0400
TZNAME:EDT
DTSTART:20250309T070000
END:DAYLIGHT
BEGIN:STANDARD
TZOFFSETFROM:-0400
TZOFFSETTO:-0500
TZNAME:EST
DTSTART:20251102T060000
END:STANDARD
BEGIN:DAYLIGHT
TZOFFSETFROM:-0500
TZOFFSETTO:-0400
TZNAME:EDT
DTSTART:20260308T070000
END:DAYLIGHT
BEGIN:STANDARD
TZOFFSETFROM:-0400
TZOFFSETTO:-0500
TZNAME:EST
DTSTART:20261101T060000
END:STANDARD
BEGIN:DAYLIGHT
TZOFFSETFROM:-0500
TZOFFSETTO:-0400
TZNAME:EDT
DTSTART:20270314T070000
END:DAYLIGHT
BEGIN:STANDARD
TZOFFSETFROM:-0400
TZOFFSETTO:-0500
TZNAME:EST
DTSTART:20271107T060000
END:STANDARD
END:VTIMEZONE
BEGIN:VEVENT
DTSTART;TZID=America/New_York:20260331T183000
DTEND;TZID=America/New_York:20260331T200000
DTSTAMP:20260419T150416
CREATED:20260325T195610Z
LAST-MODIFIED:20260326T154104Z
UID:96517-1774981800-1774987200@fairfaxgop.org
SUMMARY:State Senator Jennifer Boysko and Delegate Rip Sullivan Post Legislative Session -Town Hall Meeting
DESCRIPTION:When:  Tuesday\, March 31 @ 6:30 – 8:00 PM \nWhere: McLean Community Center\, 1234 Ingleside Ave\, McLean\, VA 22101 \nRSVP: https://forms.gle/5xKfmu6h2Vo8UFy87 \n 
URL:https://fairfaxgop.org/event/state-senator-jennifer-boysko-and-delegate-rip-sullivan-post-legislative-session-town-hall-meeting/
LOCATION:McLean Community Center\, 1234 Ingleside Avenue\, McLean\, VA\, 22101
CATEGORIES:Meeting,Town hall
ATTACH;FMTTYPE=image/png:https://fairfaxgop.org/wp-content/uploads/2026/03/MCA_logo_838905612.png
END:VEVENT
END:VCALENDAR