BEGIN:VCALENDAR
VERSION:2.0
PRODID:-//Fairfax County Republican Committee - ECPv6.15.20//NONSGML v1.0//EN
CALSCALE:GREGORIAN
METHOD:PUBLISH
X-WR-CALNAME:Fairfax County Republican Committee
X-ORIGINAL-URL:https://fairfaxgop.org
X-WR-CALDESC:Events for Fairfax County Republican Committee
REFRESH-INTERVAL;VALUE=DURATION:PT1H
X-Robots-Tag:noindex
X-PUBLISHED-TTL:PT1H
BEGIN:VTIMEZONE
TZID:America/New_York
BEGIN:DAYLIGHT
TZOFFSETFROM:-0500
TZOFFSETTO:-0400
TZNAME:EDT
DTSTART:20240310T070000
END:DAYLIGHT
BEGIN:STANDARD
TZOFFSETFROM:-0400
TZOFFSETTO:-0500
TZNAME:EST
DTSTART:20241103T060000
END:STANDARD
BEGIN:DAYLIGHT
TZOFFSETFROM:-0500
TZOFFSETTO:-0400
TZNAME:EDT
DTSTART:20250309T070000
END:DAYLIGHT
BEGIN:STANDARD
TZOFFSETFROM:-0400
TZOFFSETTO:-0500
TZNAME:EST
DTSTART:20251102T060000
END:STANDARD
BEGIN:DAYLIGHT
TZOFFSETFROM:-0500
TZOFFSETTO:-0400
TZNAME:EDT
DTSTART:20260308T070000
END:DAYLIGHT
BEGIN:STANDARD
TZOFFSETFROM:-0400
TZOFFSETTO:-0500
TZNAME:EST
DTSTART:20261101T060000
END:STANDARD
END:VTIMEZONE
BEGIN:VEVENT
DTSTART;TZID=America/New_York:20250301T120000
DTEND;TZID=America/New_York:20250301T120000
DTSTAMP:20260424T061931
CREATED:20250203T120631Z
LAST-MODIFIED:20250203T120631Z
UID:38175-1740830400-1740830400@fairfaxgop.org
SUMMARY:42nd Alexandria St. Patrick’s Day Parade
DESCRIPTION:When:  Saturday\, March 1 @ 12:00 PM \nWhere: The parade officially starts at the corner of King Street and St. Asaph Street at 12:30pm\, with dignitaries leading the procession at 12:15 pm. The parade proceeds east on King Street\, turning North at Lee Street and West at Cameron Street\, finishing at the intersection of Cameron and Pitt. \nMore Info: https://ballyshaners.org/about/
URL:https://fairfaxgop.org/event/42nd-alexandria-st-patricks-day-parade/
LOCATION:Old Town Alexandria\, King St\, Alexandria\, VA
ATTACH;FMTTYPE=image/jpeg:https://fairfaxgop.org/wp-content/uploads/2025/02/download-8.jpg
END:VEVENT
END:VCALENDAR