BEGIN:VCALENDAR
VERSION:2.0
PRODID:-//Fairfax County Republican Committee - ECPv6.15.20//NONSGML v1.0//EN
CALSCALE:GREGORIAN
METHOD:PUBLISH
X-ORIGINAL-URL:https://fairfaxgop.org
X-WR-CALDESC:Events for Fairfax County Republican Committee
REFRESH-INTERVAL;VALUE=DURATION:PT1H
X-Robots-Tag:noindex
X-PUBLISHED-TTL:PT1H
BEGIN:VTIMEZONE
TZID:America/New_York
BEGIN:DAYLIGHT
TZOFFSETFROM:-0500
TZOFFSETTO:-0400
TZNAME:EDT
DTSTART:20240310T070000
END:DAYLIGHT
BEGIN:STANDARD
TZOFFSETFROM:-0400
TZOFFSETTO:-0500
TZNAME:EST
DTSTART:20241103T060000
END:STANDARD
BEGIN:DAYLIGHT
TZOFFSETFROM:-0500
TZOFFSETTO:-0400
TZNAME:EDT
DTSTART:20250309T070000
END:DAYLIGHT
BEGIN:STANDARD
TZOFFSETFROM:-0400
TZOFFSETTO:-0500
TZNAME:EST
DTSTART:20251102T060000
END:STANDARD
BEGIN:DAYLIGHT
TZOFFSETFROM:-0500
TZOFFSETTO:-0400
TZNAME:EDT
DTSTART:20260308T070000
END:DAYLIGHT
BEGIN:STANDARD
TZOFFSETFROM:-0400
TZOFFSETTO:-0500
TZNAME:EST
DTSTART:20261101T060000
END:STANDARD
END:VTIMEZONE
BEGIN:VEVENT
DTSTART;TZID=America/New_York:20251011T100000
DTEND;TZID=America/New_York:20251011T123000
DTSTAMP:20260421T151212
CREATED:20251007T125006Z
LAST-MODIFIED:20251007T125420Z
UID:95645-1760176800-1760185800@fairfaxgop.org
SUMMARY:Door Knock to Save Virginia
DESCRIPTION:When:  Saturday\, October 10 @ 10:00 AM – 12:30 PM \nWhere: 10800 Baron Cameron Ave\, Reston\, VA 20190 (park at Reston Farm Garden Market) \nRSVP: Valerie Wohlleben at vwohlleben@gmail.com \nWinsome Earl-Sears for Governor \n \nJohn Reid for Lt. Governor \n \nJason Miyares for Attorney General \n \nKristin Hoffman for Delegate District 6 \n \nCassandra Aucoin for Delegate District 7 \n \n\n\n\nLearn about other GOP candidates: HERE \n\n\nNot sure what House of Delegates district you live in?  Find your candidates with our Voter Info Tool\, https://fairfaxgop.org/voter-info/
URL:https://fairfaxgop.org/event/door-knock-to-save-virginia-2/
LOCATION:10800 Baron Cameron Ave\, 10800 Baron Cameron Ave\, Reston\, VA\, 20190
CATEGORIES:Door Knock
ATTACH;FMTTYPE=image/png:https://fairfaxgop.org/wp-content/uploads/2025/10/1-3.png
ORGANIZER;CN="Fairfax GOP":MAILTO:info@fairfaxgop.org
END:VEVENT
END:VCALENDAR