BEGIN:VCALENDAR
VERSION:2.0
PRODID:-//Fairfax County Republican Committee - ECPv6.15.20//NONSGML v1.0//EN
CALSCALE:GREGORIAN
METHOD:PUBLISH
X-ORIGINAL-URL:https://fairfaxgop.org
X-WR-CALDESC:Events for Fairfax County Republican Committee
REFRESH-INTERVAL;VALUE=DURATION:PT1H
X-Robots-Tag:noindex
X-PUBLISHED-TTL:PT1H
BEGIN:VTIMEZONE
TZID:America/New_York
BEGIN:DAYLIGHT
TZOFFSETFROM:-0500
TZOFFSETTO:-0400
TZNAME:EDT
DTSTART:20240310T070000
END:DAYLIGHT
BEGIN:STANDARD
TZOFFSETFROM:-0400
TZOFFSETTO:-0500
TZNAME:EST
DTSTART:20241103T060000
END:STANDARD
BEGIN:DAYLIGHT
TZOFFSETFROM:-0500
TZOFFSETTO:-0400
TZNAME:EDT
DTSTART:20250309T070000
END:DAYLIGHT
BEGIN:STANDARD
TZOFFSETFROM:-0400
TZOFFSETTO:-0500
TZNAME:EST
DTSTART:20251102T060000
END:STANDARD
BEGIN:DAYLIGHT
TZOFFSETFROM:-0500
TZOFFSETTO:-0400
TZNAME:EDT
DTSTART:20260308T070000
END:DAYLIGHT
BEGIN:STANDARD
TZOFFSETFROM:-0400
TZOFFSETTO:-0500
TZNAME:EST
DTSTART:20261101T060000
END:STANDARD
END:VTIMEZONE
BEGIN:VEVENT
DTSTART;TZID=America/New_York:20250303T000000
DTEND;TZID=America/New_York:20250303T000000
DTSTAMP:20260424T145822
CREATED:20250129T002514Z
LAST-MODIFIED:20250129T002514Z
UID:38112-1740960000-1740960000@fairfaxgop.org
SUMMARY:2025 Governor Glenn Youngkin Summer Fellows Applications Deadline
DESCRIPTION:Deadline:  Monday\, March 3 \nMore Info: https://www.governor.virginia.gov/fellows/ \nApply Online: https://www.governor.virginia.gov/fellows/application/ \nRICHMOND\, VA – Governor Glenn Youngkin announced that applications are now being accepted for the 2025 Governor’s Fellows Program. The Governor’s Fellows Program is a prestigious opportunity for rising college seniors and recent graduates to get a firsthand look at the executive branch in action. Since 1982\, fellows have worked alongside the Governor’s Cabinet and staff\, learning about state government and assisting in essential work for the Commonwealth. \nQualified applicants must be rising college seniors\, graduating seniors\, graduate students\, or have equivalent work or military experience. All Virginia college and university students are eligible to apply. Virginia residents who attend out-of-state colleges and universities are also eligible. Both public and private college and university students are encouraged to apply. \nThe deadline to apply for the Governor’s Fellows Program is Monday\, March 3\, 2025. Interviews will begin on Monday\, March 10\, 2025. Applicants will be advised on decisions beginning on April 11\, 2025. The program runs from June 2\, 2025 through August 1\, 2025. \n 
URL:https://fairfaxgop.org/event/2025-governor-glenn-youngkin-summer-fellows-applications-deadline/
CATEGORIES:Fellowship Application
ATTACH;FMTTYPE=image/jpeg:https://fairfaxgop.org/wp-content/uploads/2025/01/download-7.jpg
END:VEVENT
END:VCALENDAR