BEGIN:VCALENDAR
VERSION:2.0
PRODID:-//Fairfax County Republican Committee - ECPv6.15.20//NONSGML v1.0//EN
CALSCALE:GREGORIAN
METHOD:PUBLISH
X-ORIGINAL-URL:https://fairfaxgop.org
X-WR-CALDESC:Events for Fairfax County Republican Committee
REFRESH-INTERVAL;VALUE=DURATION:PT1H
X-Robots-Tag:noindex
X-PUBLISHED-TTL:PT1H
BEGIN:VTIMEZONE
TZID:America/New_York
BEGIN:DAYLIGHT
TZOFFSETFROM:-0500
TZOFFSETTO:-0400
TZNAME:EDT
DTSTART:20250309T070000
END:DAYLIGHT
BEGIN:STANDARD
TZOFFSETFROM:-0400
TZOFFSETTO:-0500
TZNAME:EST
DTSTART:20251102T060000
END:STANDARD
BEGIN:DAYLIGHT
TZOFFSETFROM:-0500
TZOFFSETTO:-0400
TZNAME:EDT
DTSTART:20260308T070000
END:DAYLIGHT
BEGIN:STANDARD
TZOFFSETFROM:-0400
TZOFFSETTO:-0500
TZNAME:EST
DTSTART:20261101T060000
END:STANDARD
BEGIN:DAYLIGHT
TZOFFSETFROM:-0500
TZOFFSETTO:-0400
TZNAME:EDT
DTSTART:20270314T070000
END:DAYLIGHT
BEGIN:STANDARD
TZOFFSETFROM:-0400
TZOFFSETTO:-0500
TZNAME:EST
DTSTART:20271107T060000
END:STANDARD
END:VTIMEZONE
BEGIN:VEVENT
DTSTART;TZID=America/New_York:20260502T083000
DTEND;TZID=America/New_York:20260502T100000
DTSTAMP:20260425T194601
CREATED:20260425T190435Z
LAST-MODIFIED:20260425T190435Z
UID:96654-1777710600-1777716000@fairfaxgop.org
SUMMARY:Braddock-Springfield Breakfast
DESCRIPTION:Speaker: TBD \nWhen:  Saturday\, May 2 @ 8:30 – 10:00 AM \nWhere: Kings Park Shopping Center Community Room\, 8944 Burke Lake Rd\, Springfield\, VA \nCost: $10 per person (cash only) \nRSVP: Braddock-Springfield Breakfast May 2 \n 
URL:https://fairfaxgop.org/event/braddock-springfield-breakfast-3/
LOCATION:Kings Park Shopping Center Community Room\, 8944 Burke Lake Rd\, Springfield\, VA
CATEGORIES:Breakfast
END:VEVENT
END:VCALENDAR