BEGIN:VCALENDAR
VERSION:2.0
PRODID:-//Fairfax County Republican Committee - ECPv6.15.20//NONSGML v1.0//EN
CALSCALE:GREGORIAN
METHOD:PUBLISH
X-ORIGINAL-URL:https://fairfaxgop.org
X-WR-CALDESC:Events for Fairfax County Republican Committee
REFRESH-INTERVAL;VALUE=DURATION:PT1H
X-Robots-Tag:noindex
X-PUBLISHED-TTL:PT1H
BEGIN:VTIMEZONE
TZID:America/New_York
BEGIN:DAYLIGHT
TZOFFSETFROM:-0500
TZOFFSETTO:-0400
TZNAME:EDT
DTSTART:20240310T070000
END:DAYLIGHT
BEGIN:STANDARD
TZOFFSETFROM:-0400
TZOFFSETTO:-0500
TZNAME:EST
DTSTART:20241103T060000
END:STANDARD
BEGIN:DAYLIGHT
TZOFFSETFROM:-0500
TZOFFSETTO:-0400
TZNAME:EDT
DTSTART:20250309T070000
END:DAYLIGHT
BEGIN:STANDARD
TZOFFSETFROM:-0400
TZOFFSETTO:-0500
TZNAME:EST
DTSTART:20251102T060000
END:STANDARD
BEGIN:DAYLIGHT
TZOFFSETFROM:-0500
TZOFFSETTO:-0400
TZNAME:EDT
DTSTART:20260308T070000
END:DAYLIGHT
BEGIN:STANDARD
TZOFFSETFROM:-0400
TZOFFSETTO:-0500
TZNAME:EST
DTSTART:20261101T060000
END:STANDARD
END:VTIMEZONE
BEGIN:VEVENT
DTSTART;TZID=America/New_York:20251011T083000
DTEND;TZID=America/New_York:20251011T103000
DTSTAMP:20260425T074146
CREATED:20251008T183239Z
LAST-MODIFIED:20251008T183239Z
UID:95678-1760171400-1760178600@fairfaxgop.org
SUMMARY:Mason GOP Breakfast
DESCRIPTION:Guest Speaker: John Reid Will Speak About His Candidacy For Lt Governor \nPlease Bring Your Checkbooks: John is being outspent\, and your donations will help!!!\n\n\nWhen:  Saturday\, October 11 @ 8:30 – 10:30 AM\nWhere: Glory Days Grill\, Barcroft Plaza Shopping Center\, 6341 Columbia Pike\, Falls Church\, VA 22041\n\nSocial Hour Begins: 8:30 AM\nBreakfast Served: 9:00 AM\nMeeting Begins: 9:30 AM\nEating or Not: $15\n\n\nCampaign Website: http://www.johnreidforvirginia.com/\n\n\nJohn Reid is a lifelong Virginian\, a trusted voice in conservative media\, and a bold leader with the experience and communication skills to deliver real results for the Commonwealth.\n​ \nFor the past eight years\, John has been the award-winning host of the WRVA Morning Show — one of America’s longest-running conservative talk radio programs. Every day\, Virginians across the state tuned in to hear John speak with clarity\, common sense\, and conviction about the issues that matter most.\n\nJohn is the founder and chair of The Virginia Council\, where he brings together parents\, educators\, and community leaders to defend Virginia’s cultural heritage\, promote civic education\, and stand up for the values that make our Commonwealth strong.\n​ \nHe began his career in public service as one of the final interns to President Ronald Reagan in Los Angeles. He went on to serve as Communications Director for U.S. Senator George Allen and later led national messaging efforts as Chief Communications Officer for Iraq and Afghanistan Veterans of America — the largest new-generation veterans organization in the country.
URL:https://fairfaxgop.org/event/mason-gop-breakfast/
LOCATION:Glory Days – Falls Church\, 6341 Columbia Pike\, Falls Church\, VA\, United States
CATEGORIES:Breakfast,Fundraiser
ATTACH;FMTTYPE=image/png:https://fairfaxgop.org/wp-content/uploads/2025/01/John-Reid.png
END:VEVENT
END:VCALENDAR