BEGIN:VCALENDAR
VERSION:2.0
PRODID:-//Fairfax County Republican Committee - ECPv6.15.20//NONSGML v1.0//EN
CALSCALE:GREGORIAN
METHOD:PUBLISH
X-ORIGINAL-URL:https://fairfaxgop.org
X-WR-CALDESC:Events for Fairfax County Republican Committee
REFRESH-INTERVAL;VALUE=DURATION:PT1H
X-Robots-Tag:noindex
X-PUBLISHED-TTL:PT1H
BEGIN:VTIMEZONE
TZID:America/New_York
BEGIN:DAYLIGHT
TZOFFSETFROM:-0500
TZOFFSETTO:-0400
TZNAME:EDT
DTSTART:20250309T070000
END:DAYLIGHT
BEGIN:STANDARD
TZOFFSETFROM:-0400
TZOFFSETTO:-0500
TZNAME:EST
DTSTART:20251102T060000
END:STANDARD
BEGIN:DAYLIGHT
TZOFFSETFROM:-0500
TZOFFSETTO:-0400
TZNAME:EDT
DTSTART:20260308T070000
END:DAYLIGHT
BEGIN:STANDARD
TZOFFSETFROM:-0400
TZOFFSETTO:-0500
TZNAME:EST
DTSTART:20261101T060000
END:STANDARD
BEGIN:DAYLIGHT
TZOFFSETFROM:-0500
TZOFFSETTO:-0400
TZNAME:EDT
DTSTART:20270314T070000
END:DAYLIGHT
BEGIN:STANDARD
TZOFFSETFROM:-0400
TZOFFSETTO:-0500
TZNAME:EST
DTSTART:20271107T060000
END:STANDARD
END:VTIMEZONE
BEGIN:VEVENT
DTSTART;TZID=America/New_York:20260110T083000
DTEND;TZID=America/New_York:20260110T103000
DTSTAMP:20260419T181653
CREATED:20260108T054739Z
LAST-MODIFIED:20260108T132002Z
UID:96193-1768033800-1768041000@fairfaxgop.org
SUMMARY:Mason District Breakfast with James Simpson\, Guest Speaker
DESCRIPTION:You’re Invited! \nMason District Breakfast Meeting with Guest Speaker\, James Simpson! \n \nJames Simpson is an economist\, investigative journalist\, successful businessman\, and author who formerly worked under Presidents Reagan\, H.W. Bush\, and Clinton in the White House Office of Management and Budget.\n\nMr. Simpson’s articles and research work have been published in numerous outlets\, including American Thinker\, Breitbart\, Capital Research Center\, Daily Caller\, The Epoch Times\, The Federalist\, PJ Media\, The Washington Times\, and elsewhere.\n\nJim has also written 7 books. His latest\, Manufactured Crisis: The War to End America\, describes in detail the many crises deliberately created or magnified by our enemies over the past 100 years to destroy our nation. His last book was the Amazon best-seller Who Was Karl Marx?: The Men\, the Motives and the Menace Behind Today’s Rampaging American Left. Glenn Beck remarked\, “This book should be in every household in America.”\n\nMr. Simpson is also featured in the documentaries The Enemies Within\, the award-winning AGENDA: Grinding America Down\, and others. Jim is a public speaker and regular guest on radio & TV talk shows around the nation. Jim ran for the U.S. Congress in 2020 and in 2022 was a candidate for the Maryland state legislature. He is also a Maryland State Police certified pistol instructor. Jim’s website is crisisnow.net\nWHEN: Saturday\, January 10th 9:00AM – Social Hour Begins: 8:30 AM\, Breakfast Served: 9:00 AM\, Meeting Begins: 9:30 AM \nPRICE: $15\, whether dining or not \nGlory Days Grill\nBarcroft Plaza Shopping Center\n6341 Columbia Pike\nFalls Church\, VA 22041\n  \n 
URL:https://fairfaxgop.org/event/mason-district-breakfast-with-james-simpson-guest-speaker/
LOCATION:Glory Days – Falls Church\, 6341 Columbia Pike\, Falls Church\, VA\, United States
CATEGORIES:Breakfast
END:VEVENT
BEGIN:VEVENT
DTSTART;TZID=America/New_York:20260117T083000
DTEND;TZID=America/New_York:20260117T103000
DTSTAMP:20260419T181653
CREATED:20260115T154955Z
LAST-MODIFIED:20260115T154955Z
UID:96234-1768638600-1768645800@fairfaxgop.org
SUMMARY:Providence District Breakfast - 3 Guest Speakers
DESCRIPTION:You’re Invited!  Providence District Breakfast \nWHEN: Saturday\, January 17th from 8:30 – 10:30AM \nWHERE: Settle Down Easy Oakton\, 2952 Chain Bridge Rd\, Oakton\, VA 22124\nCost: $20 at the door\, tax and tip included (hey – we now have a 10% meals tax)\nSign Up: RSVP \nThis will be our first Providence Breakfast in 2026 since the kitchen fire at Glory Days – which is still closed. I am excited to announce that the good folks at Settle Down Easy in Oakton will be hosting our breakfast going forward. \nWe will recap the disaster that was the 2025 election but then pivot to what the 2026 election cycle looks like. There is a lot going on for 2026: \n\nSpecial Election: House of Delegates District 11 (Jan 13th)\, Adam Wise\nSpecial Election: House of Delegates District 17 (Jan 20th)\, Christopher Cardiff\nSpecial Election: Braddock School Board (Mar 3)\, Saundra Davis\nFairfax GOP Convention to Elect a Chair\nCongressional District 8\, 10 and 11 to Elect a Chair\nPossible Referendum for Democrat Amendments to the Virginia Constitution\nPrimary for US Senate and US House Districts 8 10 and 11\nGeneral Election for US Senate and US House\n\nGuest Speakers: \n\nTony Sabio\, Candidate CD8\, Sabio For Congress\nKim Farington\, Candidate US Senate\, Kim for Virginia\nMatt Braynard\, Candidate CD11 Chair\n\n 
URL:https://fairfaxgop.org/event/providence-district-breakfast-3-guest-speakers/
LOCATION:Settle Down Easy Brewing Co. Oakton\, 2952 Chain Bridge Road\, Oakton\, VA\, 22124\, United States
CATEGORIES:Breakfast
ATTACH;FMTTYPE=image/png:https://fairfaxgop.org/wp-content/uploads/2023/07/Providence-District-logo-e1690772294883.png
END:VEVENT
END:VCALENDAR